BEGIN:VCALENDAR
VERSION:2.0
PRODID:-//Orkest van Utrecht - ECPv6.15.20//NONSGML v1.0//EN
CALSCALE:GREGORIAN
METHOD:PUBLISH
X-ORIGINAL-URL:https://orkestvanutrecht.nl
X-WR-CALDESC:Evenementen voor Orkest van Utrecht
REFRESH-INTERVAL;VALUE=DURATION:PT1H
X-Robots-Tag:noindex
X-PUBLISHED-TTL:PT1H
BEGIN:VTIMEZONE
TZID:Europe/Amsterdam
BEGIN:DAYLIGHT
TZOFFSETFROM:+0100
TZOFFSETTO:+0200
TZNAME:CEST
DTSTART:20240331T010000
END:DAYLIGHT
BEGIN:STANDARD
TZOFFSETFROM:+0200
TZOFFSETTO:+0100
TZNAME:CET
DTSTART:20241027T010000
END:STANDARD
BEGIN:DAYLIGHT
TZOFFSETFROM:+0100
TZOFFSETTO:+0200
TZNAME:CEST
DTSTART:20250330T010000
END:DAYLIGHT
BEGIN:STANDARD
TZOFFSETFROM:+0200
TZOFFSETTO:+0100
TZNAME:CET
DTSTART:20251026T010000
END:STANDARD
BEGIN:DAYLIGHT
TZOFFSETFROM:+0100
TZOFFSETTO:+0200
TZNAME:CEST
DTSTART:20260329T010000
END:DAYLIGHT
BEGIN:STANDARD
TZOFFSETFROM:+0200
TZOFFSETTO:+0100
TZNAME:CET
DTSTART:20261025T010000
END:STANDARD
END:VTIMEZONE
BEGIN:VEVENT
DTSTART;TZID=Europe/Amsterdam:20251123T150000
DTEND;TZID=Europe/Amsterdam:20251123T170000
DTSTAMP:20260425T144100
CREATED:20240204T124032Z
LAST-MODIFIED:20251105T172620Z
UID:1149-1763910000-1763917200@orkestvanutrecht.nl
SUMMARY:Najaarsconcert 2025 zondag 23/11\, 15:00
DESCRIPTION:Kaarten via https://digitalekaartverkoop.nl/organizer/orkest-van-utrecht/
URL:https://orkestvanutrecht.nl/event/najaarsconcert-2025-zondag/
LOCATION:Tuindorpkerk\, Prof. Suringarlaan 1\, Utrecht\, Nederland
CATEGORIES:Concertagenda,Ledenagenda
END:VEVENT
END:VCALENDAR