BEGIN:VCALENDAR
VERSION:2.0
PRODID:-//Orkest van Utrecht - ECPv6.15.20//NONSGML v1.0//EN
CALSCALE:GREGORIAN
METHOD:PUBLISH
X-ORIGINAL-URL:https://orkestvanutrecht.nl
X-WR-CALDESC:Evenementen voor Orkest van Utrecht
REFRESH-INTERVAL;VALUE=DURATION:PT1H
X-Robots-Tag:noindex
X-PUBLISHED-TTL:PT1H
BEGIN:VTIMEZONE
TZID:Europe/Helsinki
BEGIN:DAYLIGHT
TZOFFSETFROM:+0200
TZOFFSETTO:+0300
TZNAME:EEST
DTSTART:20230326T010000
END:DAYLIGHT
BEGIN:STANDARD
TZOFFSETFROM:+0300
TZOFFSETTO:+0200
TZNAME:EET
DTSTART:20231029T010000
END:STANDARD
BEGIN:DAYLIGHT
TZOFFSETFROM:+0200
TZOFFSETTO:+0300
TZNAME:EEST
DTSTART:20240331T010000
END:DAYLIGHT
BEGIN:STANDARD
TZOFFSETFROM:+0300
TZOFFSETTO:+0200
TZNAME:EET
DTSTART:20241027T010000
END:STANDARD
BEGIN:DAYLIGHT
TZOFFSETFROM:+0200
TZOFFSETTO:+0300
TZNAME:EEST
DTSTART:20250330T010000
END:DAYLIGHT
BEGIN:STANDARD
TZOFFSETFROM:+0300
TZOFFSETTO:+0200
TZNAME:EET
DTSTART:20251026T010000
END:STANDARD
END:VTIMEZONE
BEGIN:VEVENT
DTSTART;TZID=Europe/Helsinki:20241124T150000
DTEND;TZID=Europe/Helsinki:20241124T170000
DTSTAMP:20260425T045141
CREATED:20230828T191325Z
LAST-MODIFIED:20241030T191034Z
UID:1018-1732460400-1732467600@orkestvanutrecht.nl
SUMMARY:Concert
DESCRIPTION:Locatie\nTuindorpkerk\, Prof. Suringarlaan 1\, Utrecht \nKaartverkoop\nKaartverkoop via de verkoopsite of aan de deur. Prijzen: 17.50 euro (normaal)\, 7.50 euro (t/m 18 jaar). \nToelichting\nOm het 30-jarige bestaan te vieren komt het Orkest van Utrecht met een bijzonder project “Van Aria tot Ballade”. Binnen dit project zijn de beste zangers en zangeressen uit de regio Utrecht gevraagd zich aan te melden om samen met een symfonieorkest op te treden. Na een serie audities vonden de gezamenlijke repetities plaats. De stukken tonen een grote variatie aan stijlen\, van beroemde aria’s uit opera’s van o.a. Verdi\, Rossini\, Puccini\, Berlioz tot delen uit musicals als Les Miserables en populaire muziek\, waaronder een optreden met band. \n 
URL:https://orkestvanutrecht.nl/event/concert-6/
CATEGORIES:Concertagenda,Ledenagenda
END:VEVENT
END:VCALENDAR